BEGIN:VCALENDAR
VERSION:2.0
PRODID:-//eventon.com NONSGML v1.0//EN
CALSCALE:GREGORIAN
METHOD:PUBLISH
BEGIN:VEVENT
UID:69eaf1673e3d4
DTSTAMP:20260424T042823Z
DTSTART:20260409
DTEND:20260410
LOCATION:
SUMMARY:Permanence CRF Le Belloy à Saint-Omer-en-Chaussée (60)
DESCRIPTION:Permanence CRF Le Belloy à Saint-Omer-en-Chaussée (60) Prése
 nce Centre - Contacter Jean-Michel Triquet : 06 45 11 94 54\nhttps://www.ad
 epa.fr/events/permanence-crf-le-belloy-a-saint-omer-en-chaussee-60-7/
URL:https://www.adepa.fr/events/permanence-crf-le-belloy-a-saint-omer-en-chaussee-60-7/
END:VEVENT
END:VCALENDAR