BEGIN:VCALENDAR
VERSION:2.0
PRODID:-//eventon.com NONSGML v1.0//EN
CALSCALE:GREGORIAN
METHOD:PUBLISH
BEGIN:VEVENT
UID:69e8c6bfeb869
DTSTAMP:20260422T130151Z
DTSTART:20260604
DTEND:20260605
LOCATION:
SUMMARY:CDU à Orsac Montfleury - Grasse (06)
DESCRIPTION:CDU : Commission des Usagers Centre Orsac Montfleury à Grasse 
 Contacter : Patrice Gorse : 06 62 43 68 53\nhttps://www.adepa.fr/events/cdu
 -a-orsac-montfleury-grasse-06-5/
URL:https://www.adepa.fr/events/cdu-a-orsac-montfleury-grasse-06-5/
END:VEVENT
END:VCALENDAR