BEGIN:VCALENDAR
VERSION:2.0
PRODID:-//eventon.com NONSGML v1.0//EN
CALSCALE:GREGORIAN
METHOD:PUBLISH
BEGIN:VEVENT
UID:69e8c3a743e0d
DTSTAMP:20260422T124839Z
DTSTART:20260604
DTEND:20260605
LOCATION:
SUMMARY:ETP à Orsac Montfleury - Grasse (06)
DESCRIPTION:CDU : Commission des Usagers ETP : Éducation Thérapeutique du
  Patient Centre Orsac Montfleury à Grasse Contacter : Patrice Gorse : 06 6
 2 43 68 53\nhttps://www.adepa.fr/events/etp-a-orsac-montfleury-grasse-06-3/
URL:https://www.adepa.fr/events/etp-a-orsac-montfleury-grasse-06-3/
END:VEVENT
END:VCALENDAR