BEGIN:VCALENDAR
VERSION:2.0
PRODID:-//eventon.com NONSGML v1.0//EN
CALSCALE:GREGORIAN
METHOD:PUBLISH
BEGIN:VEVENT
UID:69e8c5e04f324
DTSTAMP:20260422T125808Z
DTSTART:20260413
DTEND:20260414
LOCATION:
SUMMARY:Comité d'éthique à Orsac - Grasse (06)
DESCRIPTION:Comité d'éthique à Orsac Montfleury\,  à Grasse Contacter :
  Patrice Gorse : 06 62 43 68 53\nhttps://www.adepa.fr/events/comite-dethiqu
 e-a-orsac-grasse-06/
URL:https://www.adepa.fr/events/comite-dethique-a-orsac-grasse-06/
END:VEVENT
END:VCALENDAR