BEGIN:VCALENDAR
VERSION:2.0
PRODID:-//eventon.com NONSGML v1.0//EN
CALSCALE:GREGORIAN
METHOD:PUBLISH
BEGIN:VEVENT
UID:69e9edb4ca032
DTSTAMP:20260423T100020Z
DTSTART:20241128
DTEND:20241129
LOCATION:
SUMMARY:ETP - Centre Hélio Marin - Vallauris (06)
DESCRIPTION:Contacter Patrice Gorse : 06 62 43 68 53\nhttps://www.adepa.fr/
 events/etp-centre-helio-marin-vallauris-06-3/
URL:https://www.adepa.fr/events/etp-centre-helio-marin-vallauris-06-3/
END:VEVENT
END:VCALENDAR