BEGIN:VCALENDAR
VERSION:2.0
PRODID:-//eventon.com NONSGML v1.0//EN
CALSCALE:GREGORIAN
METHOD:PUBLISH
BEGIN:VEVENT
UID:69e74a505a76f
DTSTAMP:20260421T095840Z
DTSTART:20241203T130000Z
DTEND:20241203T150000Z
LOCATION:
SUMMARY:Permanence "Clos Champirol" - Saint-Priest-en-Jarez (42)
DESCRIPTION:Permanence "Clos Champirol" - Saint-Priest-en-Jarez (42) Contac
 ter Gérard Mandon : 06 07 62 27 33\nhttps://www.adepa.fr/events/permanence
 -clos-champirol-saint-priest-en-jarez-42/
URL:https://www.adepa.fr/events/permanence-clos-champirol-saint-priest-en-jarez-42/
END:VEVENT
END:VCALENDAR