BEGIN:VCALENDAR
VERSION:2.0
PRODID:-//eventon.com NONSGML v1.0//EN
CALSCALE:GREGORIAN
METHOD:PUBLISH
BEGIN:VEVENT
UID:69eb1513ad76a
DTSTAMP:20260424T070035Z
DTSTART:20240604
DTEND:20240605
LOCATION:
SUMMARY:"Patient traceur" à Brest (29)
DESCRIPTION:Patient traceur Brest Ty Yann Contact : Yvon Abautret 06 13 53 
 44 33 &nbsp;\nhttps://www.adepa.fr/events/patient-traceur-a-brest-29/
URL:https://www.adepa.fr/events/patient-traceur-a-brest-29/
END:VEVENT
END:VCALENDAR