BEGIN:VCALENDAR
VERSION:2.0
PRODID:-//eventon.com NONSGML v1.0//EN
CALSCALE:GREGORIAN
METHOD:PUBLISH
BEGIN:VEVENT
UID:69e602f26e49e
DTSTAMP:20260420T104154Z
DTSTART:20240117
DTEND:20240118
LOCATION:
SUMMARY:Parole aux usagers à Perharidy (29)
DESCRIPTION:Parole aux usagers Centre ILDYS à Perharidy (29) Contact : Yvo
 n Abautret 06 13 53 44 33 &nbsp;\nhttps://www.adepa.fr/events/parole-aux-us
 agers-a-perharidy-29/
URL:https://www.adepa.fr/events/parole-aux-usagers-a-perharidy-29/
END:VEVENT
END:VCALENDAR