BEGIN:VCALENDAR
VERSION:2.0
PRODID:-//eventon.com NONSGML v1.0//EN
CALSCALE:GREGORIAN
METHOD:PUBLISH
BEGIN:VEVENT
UID:69eae8a72d73a
DTSTAMP:20260424T035103Z
DTSTART:20240327T133000Z
DTEND:20240327T153000Z
LOCATION:
SUMMARY:Journée EMPR à Montpellier (34) -cliquer pour en savoir plus
DESCRIPTION:Journée EMPR (Entretien de Médecine Physique de Réadaptation
 ) 27 Mars 2024 Thème : "Amputés\,  le jour d'après : quel devenir après
  le Centre de Rééducation" Plus d'informations sur https://www.empr.fr\nh
 ttps://www.adepa.fr/events/journee-empr-a-montpellier-34-cliquer-pour-en-sa
 voir-plus/
URL:https://www.adepa.fr/events/journee-empr-a-montpellier-34-cliquer-pour-en-savoir-plus/
END:VEVENT
END:VCALENDAR