BEGIN:VCALENDAR
VERSION:2.0
PRODID:-//eventon.com NONSGML v1.0//EN
CALSCALE:GREGORIAN
METHOD:PUBLISH
BEGIN:VEVENT
UID:69e64e45185ef
DTSTAMP:20260420T160317Z
DTSTART:20241126T130000Z
DTEND:20241126T150000Z
LOCATION:
SUMMARY:Commission des Usagers - Gassies à Bruges (33)
DESCRIPTION:Représentation ADEPA Contacter Christian Sonnet : +33 611 03 0
 5 46\nhttps://www.adepa.fr/events/commission-des-usagers-gassies-a-bruges-3
 3-copy/
URL:https://www.adepa.fr/events/commission-des-usagers-gassies-a-bruges-33-copy/
END:VEVENT
END:VCALENDAR