BEGIN:VCALENDAR
VERSION:2.0
PRODID:-//eventon.com NONSGML v1.0//EN
CALSCALE:GREGORIAN
METHOD:PUBLISH
BEGIN:VEVENT
UID:69ea383f523f9
DTSTAMP:20260423T151823Z
DTSTART:20240217T150000Z
DTEND:20240217T170000Z
LOCATION:
SUMMARY:Réunion d'adhérents à Valenciennes (59)
DESCRIPTION:Rencontre patients - Contacter Jean-Michel Triquet : 06 30 59 9
 7 57\nhttps://www.adepa.fr/events/reunion-dadherents-a-valenciennes-59-2/
URL:https://www.adepa.fr/events/reunion-dadherents-a-valenciennes-59-2/
END:VEVENT
END:VCALENDAR