BEGIN:VCALENDAR
VERSION:2.0
PRODID:-//eventon.com NONSGML v1.0//EN
CALSCALE:GREGORIAN
METHOD:PUBLISH
BEGIN:VEVENT
UID:69ea4be4b4006
DTSTAMP:20260423T164212Z
DTSTART:20240907
DTEND:20240908
LOCATION:
SUMMARY:Journée paralympique - Drôme
DESCRIPTION:Activités sportives et animations pour personnes en situation 
 de handicap à Malataverne (Drôme)\nhttps://www.adepa.fr/events/journee-pa
 ralympique-drome/
URL:https://www.adepa.fr/events/journee-paralympique-drome/
END:VEVENT
END:VCALENDAR