BEGIN:VCALENDAR
VERSION:2.0
PRODID:-//eventon.com NONSGML v1.0//EN
CALSCALE:GREGORIAN
METHOD:PUBLISH
BEGIN:VEVENT
UID:69e515b13d964
DTSTAMP:20260419T174937Z
DTSTART:20240120T150000Z
DTEND:20240120T170000Z
LOCATION:
SUMMARY:Réunion d'adhérents à Valenciennes (59)
DESCRIPTION:- Contacter Jean-Michel Triquet : 06 30 59 97 57\nhttps://www.a
 depa.fr/events/reunion-dadherents-a-valenciennes-59/
URL:https://www.adepa.fr/events/reunion-dadherents-a-valenciennes-59/
END:VEVENT
END:VCALENDAR