BEGIN:VCALENDAR
VERSION:2.0
PRODID:-//eventon.com NONSGML v1.0//EN
CALSCALE:GREGORIAN
METHOD:PUBLISH
BEGIN:VEVENT
UID:69e687e13c2eb
DTSTAMP:20260420T200905Z
DTSTART:20240125
DTEND:20240126
LOCATION:
SUMMARY:Présence Centre - Hellesmes (59)
DESCRIPTION:ETP L'Espoir - Contacter D. Trocmé - Tél 06 30 59 97 57\nhttp
 s://www.adepa.fr/events/presence-centre-hellesmes-59-4/
URL:https://www.adepa.fr/events/presence-centre-hellesmes-59-4/
END:VEVENT
END:VCALENDAR