BEGIN:VCALENDAR
VERSION:2.0
PRODID:-//eventon.com NONSGML v1.0//EN
CALSCALE:GREGORIAN
METHOD:PUBLISH
BEGIN:VEVENT
UID:69e4e18ae0e68
DTSTAMP:20260419T140706Z
DTSTART:20231204T150000Z
DTEND:20231204T170000Z
LOCATION:
SUMMARY:Centre de rééducation Stablinski à Valenciennes (59)
DESCRIPTION:Centre de rééducation Stablinski à Valenciennes (59)\nhttps:
 //www.adepa.fr/events/centre-de-reeducation-stablinski-a-valenciennes-59/
URL:https://www.adepa.fr/events/centre-de-reeducation-stablinski-a-valenciennes-59/
END:VEVENT
END:VCALENDAR